BEGIN:VCALENDAR
VERSION:2.0
PRODID:-//Epannes - ECPv6.15.11//NONSGML v1.0//EN
CALSCALE:GREGORIAN
METHOD:PUBLISH
X-WR-CALNAME:Epannes
X-ORIGINAL-URL:https://www.epannes.fr
X-WR-CALDESC:Évènements pour Epannes
REFRESH-INTERVAL;VALUE=DURATION:PT1H
X-Robots-Tag:noindex
X-PUBLISHED-TTL:PT1H
BEGIN:VTIMEZONE
TZID:Europe/Paris
BEGIN:DAYLIGHT
TZOFFSETFROM:+0100
TZOFFSETTO:+0200
TZNAME:CEST
DTSTART:20250330T010000
END:DAYLIGHT
BEGIN:STANDARD
TZOFFSETFROM:+0200
TZOFFSETTO:+0100
TZNAME:CET
DTSTART:20251026T010000
END:STANDARD
BEGIN:DAYLIGHT
TZOFFSETFROM:+0100
TZOFFSETTO:+0200
TZNAME:CEST
DTSTART:20260329T010000
END:DAYLIGHT
BEGIN:STANDARD
TZOFFSETFROM:+0200
TZOFFSETTO:+0100
TZNAME:CET
DTSTART:20261025T010000
END:STANDARD
BEGIN:DAYLIGHT
TZOFFSETFROM:+0100
TZOFFSETTO:+0200
TZNAME:CEST
DTSTART:20270328T010000
END:DAYLIGHT
BEGIN:STANDARD
TZOFFSETFROM:+0200
TZOFFSETTO:+0100
TZNAME:CET
DTSTART:20271031T010000
END:STANDARD
END:VTIMEZONE
BEGIN:VEVENT
DTSTART;TZID=Europe/Paris:20260425T080000
DTEND;TZID=Europe/Paris:20260425T170000
DTSTAMP:20260425T054739
CREATED:20260112T144219Z
LAST-MODIFIED:20260112T144219Z
UID:4296-1777104000-1777136400@www.epannes.fr
SUMMARY:GRATIFÉRIA
DESCRIPTION:
URL:https://www.epannes.fr/evenement/gratiferia-3/
LOCATION:Salle des fêtes Marcel Brelay\, 330 Grande Rue\, EPANNES\, Deux-Sèvres\, 79270\, France
CATEGORIES:Associations
END:VEVENT
BEGIN:VEVENT
DTSTART;TZID=Europe/Paris:20260606T080000
DTEND;TZID=Europe/Paris:20260607T170000
DTSTAMP:20260425T054739
CREATED:20260421T192419Z
LAST-MODIFIED:20260421T192419Z
UID:4629-1780732800-1780851600@www.epannes.fr
SUMMARY:PORTES OUVERTES CPI LA COURANCE
DESCRIPTION:
URL:https://www.epannes.fr/evenement/portes-ouvertes-cpi-la-courance/
LOCATION:CPI La Courance\, 8 Rte du Bourdet\, La Gorre\, Amuré\, 79210
CATEGORIES:Mairie
END:VEVENT
BEGIN:VEVENT
DTSTART;TZID=Europe/Paris:20260606T090000
DTEND;TZID=Europe/Paris:20260606T170000
DTSTAMP:20260425T054739
CREATED:20260422T144538Z
LAST-MODIFIED:20260422T144538Z
UID:4644-1780736400-1780765200@www.epannes.fr
SUMMARY:FÊTE DU CLUB DE TENNIS
DESCRIPTION:
URL:https://www.epannes.fr/evenement/fete-du-club-de-tennis/
LOCATION:Terrains de Frontenay Rohan Rohan\, rue du stade\, FRONTENAY ROHAN ROHAN\, 79270
CATEGORIES:Associations
END:VEVENT
BEGIN:VEVENT
DTSTART;TZID=Europe/Paris:20260606T180000
DTEND;TZID=Europe/Paris:20260606T180000
DTSTAMP:20260425T054739
CREATED:20260112T144952Z
LAST-MODIFIED:20260112T144952Z
UID:4300-1780768800-1780768800@www.epannes.fr
SUMMARY:SOIRÉE GUINGUETTE
DESCRIPTION:
URL:https://www.epannes.fr/evenement/soiree-guinguette/
LOCATION:Place de l’Eglise\, EPANNES\, 79270\, France
CATEGORIES:Associations
ATTACH;FMTTYPE=image/jpeg:https://www.epannes.fr/wp-content/uploads/2026/01/guiguette.jpg
END:VEVENT
BEGIN:VEVENT
DTSTART;TZID=Europe/Paris:20260607T090000
DTEND;TZID=Europe/Paris:20260607T170000
DTSTAMP:20260425T054739
CREATED:20260421T183728Z
LAST-MODIFIED:20260421T183728Z
UID:4614-1780822800-1780851600@www.epannes.fr
SUMMARY:MARCHÉ AUX TRUFFES
DESCRIPTION:
URL:https://www.epannes.fr/evenement/marche-aux-truffes/
LOCATION:Salle des fêtes Marcel Brelay\, 330 Grande Rue\, EPANNES\, Deux-Sèvres\, 79270\, France
END:VEVENT
BEGIN:VEVENT
DTSTART;TZID=Europe/Paris:20260614T170000
DTEND;TZID=Europe/Paris:20260614T200000
DTSTAMP:20260425T054739
CREATED:20260421T191434Z
LAST-MODIFIED:20260421T191518Z
UID:4619-1781456400-1781467200@www.epannes.fr
SUMMARY:LA 5E SAISON
DESCRIPTION:
URL:https://www.epannes.fr/evenement/la-5e-saison/
LOCATION:Place de l’Eglise\, EPANNES\, 79270\, France
CATEGORIES:Agglo
END:VEVENT
BEGIN:VEVENT
DTSTART;TZID=Europe/Paris:20260620T080000
DTEND;TZID=Europe/Paris:20260620T170000
DTSTAMP:20260425T054739
CREATED:20260421T192743Z
LAST-MODIFIED:20260421T192833Z
UID:4632-1781942400-1781974800@www.epannes.fr
SUMMARY:RANDONNÉES CYCLOTES FÉMININES
DESCRIPTION:
URL:https://www.epannes.fr/evenement/randonnees-cyclotes-feminines/
LOCATION:Salle des fêtes Marcel Brelay\, 330 Grande Rue\, EPANNES\, Deux-Sèvres\, 79270\, France
CATEGORIES:Sport
END:VEVENT
BEGIN:VEVENT
DTSTART;TZID=Europe/Paris:20260701T160000
DTEND;TZID=Europe/Paris:20260701T190000
DTSTAMP:20260425T054739
CREATED:20260422T144730Z
LAST-MODIFIED:20260422T144730Z
UID:4647-1782921600-1782932400@www.epannes.fr
SUMMARY:DON DU SANG
DESCRIPTION:
URL:https://www.epannes.fr/evenement/don-du-sang/
LOCATION:Salle de la Chabotte\, 1\, rue Gérard FOURNIER\, FRONTENAY ROHAN ROHAN\, 79270
CATEGORIES:Associations
END:VEVENT
BEGIN:VEVENT
DTSTART;TZID=Europe/Paris:20260714T110000
DTEND;TZID=Europe/Paris:20260714T170000
DTSTAMP:20260425T054739
CREATED:20260421T191726Z
LAST-MODIFIED:20260421T191726Z
UID:4622-1784026800-1784048400@www.epannes.fr
SUMMARY:CÉRÉMONIE DE LA FÊTE NATIONALE + PIQUE-NIQUE PARTAGÉ
DESCRIPTION:
URL:https://www.epannes.fr/evenement/ceremonie-de-la-fete-nationale-pique-nique-partage/
LOCATION:A définir
CATEGORIES:Mairie
ORGANIZER;CN="Mairie":MAILTO:mairie@monclocher.com
END:VEVENT
BEGIN:VEVENT
DTSTART;TZID=Europe/Paris:20260912T170000
DTEND;TZID=Europe/Paris:20260912T233000
DTSTAMP:20260425T054739
CREATED:20260421T192937Z
LAST-MODIFIED:20260421T193100Z
UID:4635-1789232400-1789255800@www.epannes.fr
SUMMARY:MARCHÉ DES PRODUCTEURS + FEU D’ARTIFICE
DESCRIPTION:
URL:https://www.epannes.fr/evenement/marche-des-producteurs-feu-dartifice/
LOCATION:Salle des fêtes Marcel Brelay\, 330 Grande Rue\, EPANNES\, Deux-Sèvres\, 79270\, France
CATEGORIES:Mairie
ORGANIZER;CN="Mairie":MAILTO:mairie@monclocher.com
END:VEVENT
BEGIN:VEVENT
DTSTART;VALUE=DATE:20260913
DTEND;VALUE=DATE:20260914
DTSTAMP:20260425T054739
CREATED:20260112T145215Z
LAST-MODIFIED:20260112T145215Z
UID:4304-1789257600-1789343999@www.epannes.fr
SUMMARY:LES FOULÉES ÉPANNAISES
DESCRIPTION:
URL:https://www.epannes.fr/evenement/les-foulees-epannaises/
CATEGORIES:Associations,Sport
ATTACH;FMTTYPE=image/jpeg:https://www.epannes.fr/wp-content/uploads/2026/01/FOULEES.jpg
END:VEVENT
BEGIN:VEVENT
DTSTART;TZID=Europe/Paris:20261022T160000
DTEND;TZID=Europe/Paris:20261022T190000
DTSTAMP:20260425T054739
CREATED:20260422T144941Z
LAST-MODIFIED:20260422T144941Z
UID:4650-1792684800-1792695600@www.epannes.fr
SUMMARY:DON DU SANG
DESCRIPTION:
URL:https://www.epannes.fr/evenement/don-du-sang-2/
LOCATION:Salle de la Chabotte\, 1\, rue Gérard FOURNIER\, FRONTENAY ROHAN ROHAN\, 79270
CATEGORIES:Associations
END:VEVENT
BEGIN:VEVENT
DTSTART;TZID=Europe/Paris:20261219T093000
DTEND;TZID=Europe/Paris:20261219T170000
DTSTAMP:20260425T054739
CREATED:20260421T193039Z
LAST-MODIFIED:20260421T193039Z
UID:4637-1797672600-1797699600@www.epannes.fr
SUMMARY:MARCHÉ DE NOËL
DESCRIPTION:
URL:https://www.epannes.fr/evenement/marche-de-noel/
LOCATION:Salle des fêtes Marcel Brelay\, 330 Grande Rue\, EPANNES\, Deux-Sèvres\, 79270\, France
CATEGORIES:Mairie
ORGANIZER;CN="Mairie":MAILTO:mairie@monclocher.com
END:VEVENT
END:VCALENDAR