BEGIN:VCALENDAR
VERSION:2.0
PRODID:-//Epannes - ECPv6.15.11//NONSGML v1.0//EN
CALSCALE:GREGORIAN
METHOD:PUBLISH
X-WR-CALNAME:Epannes
X-ORIGINAL-URL:https://www.epannes.fr
X-WR-CALDESC:Évènements pour Epannes
REFRESH-INTERVAL;VALUE=DURATION:PT1H
X-Robots-Tag:noindex
X-PUBLISHED-TTL:PT1H
BEGIN:VTIMEZONE
TZID:Europe/Paris
BEGIN:DAYLIGHT
TZOFFSETFROM:+0100
TZOFFSETTO:+0200
TZNAME:CEST
DTSTART:20250330T010000
END:DAYLIGHT
BEGIN:STANDARD
TZOFFSETFROM:+0200
TZOFFSETTO:+0100
TZNAME:CET
DTSTART:20251026T010000
END:STANDARD
BEGIN:DAYLIGHT
TZOFFSETFROM:+0100
TZOFFSETTO:+0200
TZNAME:CEST
DTSTART:20260329T010000
END:DAYLIGHT
BEGIN:STANDARD
TZOFFSETFROM:+0200
TZOFFSETTO:+0100
TZNAME:CET
DTSTART:20261025T010000
END:STANDARD
BEGIN:DAYLIGHT
TZOFFSETFROM:+0100
TZOFFSETTO:+0200
TZNAME:CEST
DTSTART:20270328T010000
END:DAYLIGHT
BEGIN:STANDARD
TZOFFSETFROM:+0200
TZOFFSETTO:+0100
TZNAME:CET
DTSTART:20271031T010000
END:STANDARD
END:VTIMEZONE
BEGIN:VEVENT
DTSTART;TZID=Europe/Paris:20260620T080000
DTEND;TZID=Europe/Paris:20260620T170000
DTSTAMP:20260422T020526
CREATED:20260421T192743Z
LAST-MODIFIED:20260421T192833Z
UID:4632-1781942400-1781974800@www.epannes.fr
SUMMARY:RANDONNÉES CYCLOTES FÉMININES
DESCRIPTION:
URL:https://www.epannes.fr/evenement/randonnees-cyclotes-feminines/
LOCATION:Salle des fêtes Marcel Brelay\, 330 Grande Rue\, EPANNES\, Deux-Sèvres\, 79270\, France
CATEGORIES:Sport
END:VEVENT
END:VCALENDAR